BEGIN:VCALENDAR
VERSION:2.0
PRODID:-//https://mail.havasurealtors.rapiws.com//NONSGML kigkonsult.se iCalcreator 2.41.71//
CALSCALE:GREGORIAN
METHOD:PUBLISH
UID:36653531-3763-4132-a235-633663623462
X-WR-CALNAME:JCal Pro Calendar
X-WR-CALDESC:Your online events calendar
X-WR-TIMEZONE:America/Phoenix
BEGIN:VTIMEZONE
TZID:America/Phoenix
BEGIN:STANDARD
TZNAME:MST
DTSTART:20240718T172845
TZOFFSETFROM:+0000
TZOFFSETTO:-0700
END:STANDARD
END:VTIMEZONE
BEGIN:VEVENT
UID:20230211T120000MST-3073V8HTGW@https://lhsuiws.rapams.com/
DTSTAMP:20260419T172845Z
CATEGORIES:Rentals
DTSTART;TZID=America/Phoenix:20230211T000000
DTEND;TZID=America/Phoenix:20230211T235959
SUMMARY:Rental ( Pereyra )
URL:https://mail.havasurealtors.rapiws.com/calendar-menu/258-rentals/3285-r
 ental-perewra.html
END:VEVENT
END:VCALENDAR
