BEGIN:VCALENDAR
VERSION:2.0
PRODID:-//https://mail.havasurealtors.rapiws.com//NONSGML kigkonsult.se iCalcreator 2.41.71//
CALSCALE:GREGORIAN
METHOD:PUBLISH
UID:64373638-3162-4531-b333-323630653934
X-WR-CALNAME:JCal Pro Calendar
X-WR-CALDESC:Your online events calendar
X-WR-TIMEZONE:America/Phoenix
BEGIN:VTIMEZONE
TZID:America/Phoenix
BEGIN:STANDARD
TZNAME:MST
DTSTART:20240721T095429
TZOFFSETFROM:+0000
TZOFFSETTO:-0700
END:STANDARD
END:VTIMEZONE
BEGIN:VEVENT
UID:20240406T080000UTC-6181VfO736@https://havasurealtors.com/
DTSTAMP:20260422T095429Z
CATEGORIES:Rentals
DTSTART;TZID=America/Phoenix:20240406T000000
DTEND;TZID=America/Phoenix:20240406T235959
SUMMARY:Rental (LHHS Booster Club)
URL:https://mail.havasurealtors.rapiws.com/this-week-calendar-menu/258-rent
 als/3825-rental-bailey.html
END:VEVENT
END:VCALENDAR
